

BEGIN:VCALENDAR
VERSION:2.0
PRODID:-//UDC Suisse //NONSGML Events //EN
CALSCALE:GREGORIAN
X-WR-CALNAME:UDC Suisse
BEGIN:VEVENT
CREATED:20220113T082553Z
UID:97395
DTEND:20221127T000000
DTSTART:20221127T000000
DTSTAMP:20260420T191322Z
LOCATION:
DESCRIPTION:
SUMMARY:Votations fédérales
ORGANIZER:
URL;VALUE=URI:https://www.udc.ch/actualites/agenda/votations-federales-21/
TRANSP:OPAQUE
END:VEVENT
END:VCALENDAR
