

BEGIN:VCALENDAR
VERSION:2.0
PRODID:-//UDC Suisse //NONSGML Events //EN
CALSCALE:GREGORIAN
X-WR-CALNAME:UDC Suisse
BEGIN:VEVENT
CREATED:20220113T082553Z
UID:97396
DTEND:20221216T000000
DTSTART:20221128T000000
DTSTAMP:20260421T004147Z
LOCATION:Berne
DESCRIPTION:
SUMMARY:Session d’hiver
ORGANIZER:
URL;VALUE=URI:https://www.udc.ch/actualites/agenda/session-dhiver-8/
TRANSP:OPAQUE
END:VEVENT
END:VCALENDAR
