

BEGIN:VCALENDAR
VERSION:2.0
PRODID:-//UDC Suisse //NONSGML Events //EN
CALSCALE:GREGORIAN
X-WR-CALNAME:UDC Suisse
BEGIN:VEVENT
CREATED:20220113T082554Z
UID:97400
DTEND:20221212T000000
DTSTART:20221212T000000
DTSTAMP:20260420T225530Z
LOCATION:Berne
DESCRIPTION:
SUMMARY:Séance des leaders
ORGANIZER:
URL;VALUE=URI:https://www.udc.ch/actualites/agenda/seance-des-leaders-3/
TRANSP:OPAQUE
END:VEVENT
END:VCALENDAR
