

BEGIN:VCALENDAR
VERSION:2.0
PRODID:-//UDC Suisse //NONSGML Events //EN
CALSCALE:GREGORIAN
X-WR-CALNAME:UDC Suisse
BEGIN:VEVENT
CREATED:20220113T082555Z
UID:97401
DTEND:20221213T000000
DTSTART:20221213T000000
DTSTAMP:20260421T023859Z
LOCATION:Berne
DESCRIPTION:
SUMMARY:Ev. séance du groupe
ORGANIZER:
URL;VALUE=URI:https://www.udc.ch/actualites/agenda/ev-seance-du-groupe-32/
TRANSP:OPAQUE
END:VEVENT
END:VCALENDAR
