

BEGIN:VCALENDAR
VERSION:2.0
PRODID:-//UDC Suisse //NONSGML Events //EN
CALSCALE:GREGORIAN
X-WR-CALNAME:UDC Suisse
BEGIN:VEVENT
CREATED:20220310T140002Z
UID:97818
DTEND:20220330T210000
DTSTART:20220330T200000
DTSTAMP:20260420T205501Z
LOCATION:Café de l'Aigle\, Romont
DESCRIPTION:
SUMMARY:UDC proche de vous avec conseiller national Pierre-André Page
ORGANIZER:
URL;VALUE=URI:https://www.udc.ch/actualites/agenda/udc-proche-de-vous-avec-conseiller-national-pierre-andre-page/
TRANSP:OPAQUE
END:VEVENT
END:VCALENDAR
