

BEGIN:VCALENDAR
VERSION:2.0
PRODID:-//UDC Suisse //NONSGML Events //EN
CALSCALE:GREGORIAN
X-WR-CALNAME:UDC Suisse
BEGIN:VEVENT
CREATED:20220310T140003Z
UID:97821
DTEND:20220329T200000
DTSTART:20220329T190000
DTSTAMP:20260420T204208Z
LOCATION:Stand de Vernand\, Romanel-sur-Lausanne
DESCRIPTION:
SUMMARY:UDC proche de vous avec conseiller national Jacques Nicolet
ORGANIZER:
URL;VALUE=URI:https://www.udc.ch/actualites/agenda/udc-proche-de-vous-avec-conseiller-national-jacques-nicolet/
TRANSP:OPAQUE
END:VEVENT
END:VCALENDAR
