

BEGIN:VCALENDAR
VERSION:2.0
PRODID:-//UDC Suisse //NONSGML Events //EN
CALSCALE:GREGORIAN
X-WR-CALNAME:UDC Suisse
BEGIN:VEVENT
CREATED:20220328T150335Z
UID:97876
DTEND:20220329T190000
DTSTART:20220329T183000
DTSTAMP:20260421T023147Z
LOCATION:Ristorante Prisma\, Bellinzona
DESCRIPTION:
SUMMARY:UDC proche de vous avec conseiller d&rsquo\;état Marco Chiesa
ORGANIZER:
URL;VALUE=URI:https://www.udc.ch/actualites/agenda/udc-proche-de-vous-avec-conseiller-detat-marco-chiesa/
TRANSP:OPAQUE
END:VEVENT
END:VCALENDAR
