

BEGIN:VCALENDAR
VERSION:2.0
PRODID:-//UDC Suisse //NONSGML Events //EN
CALSCALE:GREGORIAN
X-WR-CALNAME:UDC Suisse
BEGIN:VEVENT
CREATED:20220328T150438Z
UID:97880
DTEND:20220329T190000
DTSTART:20220329T183000
DTSTAMP:20260420T225323Z
LOCATION:Ristorante Prisma\, Bellinzona
DESCRIPTION:
SUMMARY:UDC proche de vous avec conseiller national Piero Marchesi
ORGANIZER:
URL;VALUE=URI:https://www.udc.ch/actualites/agenda/udc-proche-de-vous-avec-conseiller-national-piero-marchesi/
TRANSP:OPAQUE
END:VEVENT
END:VCALENDAR
