

BEGIN:VCALENDAR
VERSION:2.0
PRODID:-//UDC Suisse //NONSGML Events //EN
CALSCALE:GREGORIAN
X-WR-CALNAME:UDC Suisse
BEGIN:VEVENT
CREATED:20220615T083450Z
UID:98360
DTEND:20220628T200000
DTSTART:20220628T193000
DTSTAMP:20260420T184250Z
LOCATION:Cave de Corcelles\, Corcelles-près-Payerne
DESCRIPTION:
SUMMARY:UDC proche de vous avec Conseiller National Pierre-André Page\, Michaël Buffat\, Jean-Pierre Grin\,  Jacques Nicolet
ORGANIZER:
URL;VALUE=URI:https://www.udc.ch/actualites/agenda/udc-proche-de-vous-avec-conseiller-national-pierre-andre-page-michael-buffat-jean-pierre-grin-jacques-nicolet/
TRANSP:OPAQUE
END:VEVENT
END:VCALENDAR
