

BEGIN:VCALENDAR
VERSION:2.0
PRODID:-//UDC Suisse //NONSGML Events //EN
CALSCALE:GREGORIAN
X-WR-CALNAME:UDC Suisse
BEGIN:VEVENT
CREATED:20220725T072412Z
UID:98863
DTEND:20230127T000000
DTSTART:20230127T000000
DTSTAMP:20260420T225355Z
LOCATION:ZH
DESCRIPTION:
SUMMARY:Comité directeur / comité du parti
ORGANIZER:
URL;VALUE=URI:https://www.udc.ch/actualites/agenda/comite-directeur-comite-du-parti-4/
TRANSP:OPAQUE
END:VEVENT
END:VCALENDAR
