

BEGIN:VCALENDAR
VERSION:2.0
PRODID:-//UDC Suisse //NONSGML Events //EN
CALSCALE:GREGORIAN
X-WR-CALNAME:UDC Suisse
BEGIN:VEVENT
CREATED:20220725T072413Z
UID:98871
DTEND:20230307T000000
DTSTART:20230307T000000
DTSTAMP:20260420T190313Z
LOCATION:Berne
DESCRIPTION:
SUMMARY:Rencontre présidents des groupes cantonaux
ORGANIZER:
URL;VALUE=URI:https://www.udc.ch/actualites/agenda/rencontre-presidents-des-groupes-cantonaux-2/
TRANSP:OPAQUE
END:VEVENT
END:VCALENDAR
