

BEGIN:VCALENDAR
VERSION:2.0
PRODID:-//UDC Suisse //NONSGML Events //EN
CALSCALE:GREGORIAN
X-WR-CALNAME:UDC Suisse
BEGIN:VEVENT
CREATED:20220725T072413Z
UID:98872
DTEND:20230312T000000
DTSTART:20230312T000000
DTSTAMP:20260421T145738Z
LOCATION:
DESCRIPTION:
SUMMARY:Votations fédérales
ORGANIZER:
URL;VALUE=URI:https://www.udc.ch/actualites/agenda/votations-federales-22/
TRANSP:OPAQUE
END:VEVENT
END:VCALENDAR
