

BEGIN:VCALENDAR
VERSION:2.0
PRODID:-//UDC Suisse //NONSGML Events //EN
CALSCALE:GREGORIAN
X-WR-CALNAME:UDC Suisse
BEGIN:VEVENT
CREATED:20220725T072413Z
UID:98873
DTEND:20230313T000000
DTSTART:20230313T000000
DTSTAMP:20260421T023909Z
LOCATION:Berne
DESCRIPTION:
SUMMARY:Séance des leaders
ORGANIZER:
URL;VALUE=URI:https://www.udc.ch/actualites/agenda/seances-des-leaders/
TRANSP:OPAQUE
END:VEVENT
END:VCALENDAR
