

BEGIN:VCALENDAR
VERSION:2.0
PRODID:-//UDC Suisse //NONSGML Events //EN
CALSCALE:GREGORIAN
X-WR-CALNAME:UDC Suisse
BEGIN:VEVENT
CREATED:20220725T072414Z
UID:98874
DTEND:20230313T000000
DTSTART:20230313T000000
DTSTAMP:20260420T153344Z
LOCATION:Berne
DESCRIPTION:
SUMMARY:Rencontre juges fédéraux
ORGANIZER:
URL;VALUE=URI:https://www.udc.ch/actualites/agenda/rencontre-juges-federaux/
TRANSP:OPAQUE
END:VEVENT
END:VCALENDAR
