

BEGIN:VCALENDAR
VERSION:2.0
PRODID:-//UDC Suisse //NONSGML Events //EN
CALSCALE:GREGORIAN
X-WR-CALNAME:UDC Suisse
BEGIN:VEVENT
CREATED:20220725T072414Z
UID:98875
DTEND:20230314T000000
DTSTART:20230314T000000
DTSTAMP:20260421T042423Z
LOCATION:Berne
DESCRIPTION:
SUMMARY:Retraite de faction Elections 2023
ORGANIZER:
URL;VALUE=URI:https://www.udc.ch/actualites/agenda/retraite-de-faction-elections-2023/
TRANSP:OPAQUE
END:VEVENT
END:VCALENDAR
