

BEGIN:VCALENDAR
VERSION:2.0
PRODID:-//UDC Suisse //NONSGML Events //EN
CALSCALE:GREGORIAN
X-WR-CALNAME:UDC Suisse
BEGIN:VEVENT
CREATED:20220725T072414Z
UID:98877
DTEND:20230318T000000
DTSTART:20230318T000000
DTSTAMP:20260421T115112Z
LOCATION:GE
DESCRIPTION:Invitation
SUMMARY:Assemblée des délégués
ORGANIZER:
URL;VALUE=URI:https://www.udc.ch/actualites/agenda/assemblee-des-delegues-41/
TRANSP:OPAQUE
END:VEVENT
END:VCALENDAR
