

BEGIN:VCALENDAR
VERSION:2.0
PRODID:-//UDC Suisse //NONSGML Events //EN
CALSCALE:GREGORIAN
X-WR-CALNAME:UDC Suisse
BEGIN:VEVENT
CREATED:20220725T072414Z
UID:98878
DTEND:20230429T000000
DTSTART:20230428T000000
DTSTAMP:20260421T145855Z
LOCATION:
DESCRIPTION:
SUMMARY:Conférence des présidents\, président de groupe et secrétaires cantonaux
ORGANIZER:
URL;VALUE=URI:https://www.udc.ch/actualites/agenda/conference-des-presidents-president-de-groupe-et-secretaires-cantonaux/
TRANSP:OPAQUE
END:VEVENT
END:VCALENDAR
