

BEGIN:VCALENDAR
VERSION:2.0
PRODID:-//UDC Suisse //NONSGML Events //EN
CALSCALE:GREGORIAN
X-WR-CALNAME:UDC Suisse
BEGIN:VEVENT
CREATED:20220725T072414Z
UID:98879
DTEND:20230502T000000
DTSTART:20230502T000000
DTSTAMP:20260421T004746Z
LOCATION:Berne
DESCRIPTION:
SUMMARY:Séance du groupe
ORGANIZER:
URL;VALUE=URI:https://www.udc.ch/actualites/agenda/seance-du-groupe-38/
TRANSP:OPAQUE
END:VEVENT
END:VCALENDAR
