

BEGIN:VCALENDAR
VERSION:2.0
PRODID:-//UDC Suisse //NONSGML Events //EN
CALSCALE:GREGORIAN
X-WR-CALNAME:UDC Suisse
BEGIN:VEVENT
CREATED:20220725T072415Z
UID:98881
DTEND:20230506T000000
DTSTART:20230506T000000
DTSTAMP:20260421T145946Z
LOCATION:Zurich
DESCRIPTION:
SUMMARY:Rencontre avec les conseillers d’Etat
ORGANIZER:
URL;VALUE=URI:https://www.udc.ch/actualites/agenda/rencontre-avec-les-conseillers-detat-8/
TRANSP:OPAQUE
END:VEVENT
END:VCALENDAR
