

BEGIN:VCALENDAR
VERSION:2.0
PRODID:-//UDC Suisse //NONSGML Events //EN
CALSCALE:GREGORIAN
X-WR-CALNAME:UDC Suisse
BEGIN:VEVENT
CREATED:20220725T072415Z
UID:98882
DTEND:20230512T000000
DTSTART:20230512T000000
DTSTAMP:20260420T225520Z
LOCATION:Extra muros BE
DESCRIPTION:
SUMMARY:Présidence du groupe / séance du groupe
ORGANIZER:
URL;VALUE=URI:https://www.udc.ch/actualites/agenda/presidence-du-groupe-seance-du-groupe-15/
TRANSP:OPAQUE
END:VEVENT
END:VCALENDAR
