

BEGIN:VCALENDAR
VERSION:2.0
PRODID:-//UDC Suisse //NONSGML Events //EN
CALSCALE:GREGORIAN
X-WR-CALNAME:UDC Suisse
BEGIN:VEVENT
CREATED:20220725T072415Z
UID:98884
DTEND:20230616T000000
DTSTART:20230530T000000
DTSTAMP:20260421T023824Z
LOCATION:Berne
DESCRIPTION:
SUMMARY:Session d’été
ORGANIZER:
URL;VALUE=URI:https://www.udc.ch/actualites/agenda/session-dete-9/
TRANSP:OPAQUE
END:VEVENT
END:VCALENDAR
