

BEGIN:VCALENDAR
VERSION:2.0
PRODID:-//UDC Suisse //NONSGML Events //EN
CALSCALE:GREGORIAN
X-WR-CALNAME:UDC Suisse
BEGIN:VEVENT
CREATED:20220725T072416Z
UID:98887
DTEND:20230607T000000
DTSTART:20230607T000000
DTSTAMP:20260420T225405Z
LOCATION:GL
DESCRIPTION:
SUMMARY:Sortie de groupe
ORGANIZER:
URL;VALUE=URI:https://www.udc.ch/actualites/agenda/sortie-de-groupe/
TRANSP:OPAQUE
END:VEVENT
END:VCALENDAR
