

BEGIN:VCALENDAR
VERSION:2.0
PRODID:-//UDC Suisse //NONSGML Events //EN
CALSCALE:GREGORIAN
X-WR-CALNAME:UDC Suisse
BEGIN:VEVENT
CREATED:20220725T072416Z
UID:98888
DTEND:20230612T000000
DTSTART:20230612T000000
DTSTAMP:20260421T092531Z
LOCATION:Berne
DESCRIPTION:
SUMMARY:Séance des leaders
ORGANIZER:
URL;VALUE=URI:https://www.udc.ch/actualites/agenda/seance-des-leaders-4/
TRANSP:OPAQUE
END:VEVENT
END:VCALENDAR
