

BEGIN:VCALENDAR
VERSION:2.0
PRODID:-//UDC Suisse //NONSGML Events //EN
CALSCALE:GREGORIAN
X-WR-CALNAME:UDC Suisse
BEGIN:VEVENT
CREATED:20220725T072417Z
UID:98891
DTEND:20230630T000000
DTSTART:20230630T000000
DTSTAMP:20260420T153424Z
LOCATION:SZ
DESCRIPTION:
SUMMARY:Comité directeur / comité du parti
ORGANIZER:
URL;VALUE=URI:https://www.udc.ch/actualites/agenda/comite-directeur-comite-du-parti-6/
TRANSP:OPAQUE
END:VEVENT
END:VCALENDAR
