

BEGIN:VCALENDAR
VERSION:2.0
PRODID:-//UDC Suisse //NONSGML Events //EN
CALSCALE:GREGORIAN
X-WR-CALNAME:UDC Suisse
BEGIN:VEVENT
CREATED:20220725T072417Z
UID:98892
DTEND:20230701T000000
DTSTART:20230701T000000
DTSTAMP:20260421T004751Z
LOCATION:SZ
DESCRIPTION:
SUMMARY:Assemblée des délégués / convention spéciale du parti
ORGANIZER:
URL;VALUE=URI:https://www.udc.ch/actualites/agenda/assemblee-des-delegues-convention-speciale-du-parti/
TRANSP:OPAQUE
END:VEVENT
END:VCALENDAR
