

BEGIN:VCALENDAR
VERSION:2.0
PRODID:-//UDC Suisse //NONSGML Events //EN
CALSCALE:GREGORIAN
X-WR-CALNAME:UDC Suisse
BEGIN:VEVENT
CREATED:20220725T072418Z
UID:98893
DTEND:20230818T000000
DTSTART:20230818T000000
DTSTAMP:20260421T042353Z
LOCATION:SG
DESCRIPTION:
SUMMARY:Assemblée générale UDC International
ORGANIZER:
URL;VALUE=URI:https://www.udc.ch/actualites/agenda/assemblee-generale-udc-international-5/
TRANSP:OPAQUE
END:VEVENT
END:VCALENDAR
