

BEGIN:VCALENDAR
VERSION:2.0
PRODID:-//UDC Suisse //NONSGML Events //EN
CALSCALE:GREGORIAN
X-WR-CALNAME:UDC Suisse
BEGIN:VEVENT
CREATED:20220725T072418Z
UID:98896
DTEND:20230826T000000
DTSTART:20230826T000000
DTSTAMP:20260421T023959Z
LOCATION:ZH
DESCRIPTION:
SUMMARY:Lancement de la campagne électorale
ORGANIZER:
URL;VALUE=URI:https://www.udc.ch/actualites/agenda/26-aout-lancement-de-la-campagne-electorale/
TRANSP:OPAQUE
END:VEVENT
END:VCALENDAR
