

BEGIN:VCALENDAR
VERSION:2.0
PRODID:-//UDC Suisse //NONSGML Events //EN
CALSCALE:GREGORIAN
X-WR-CALNAME:UDC Suisse
BEGIN:VEVENT
CREATED:20220725T072419Z
UID:98897
DTEND:20230901T000000
DTSTART:20230901T000000
DTSTAMP:20260421T004826Z
LOCATION:FR
DESCRIPTION:
SUMMARY:Séance des leaders
ORGANIZER:
URL;VALUE=URI:https://www.udc.ch/actualites/agenda/seance-des-leaders-5/
TRANSP:OPAQUE
END:VEVENT
END:VCALENDAR
