

BEGIN:VCALENDAR
VERSION:2.0
PRODID:-//UDC Suisse //NONSGML Events //EN
CALSCALE:GREGORIAN
X-WR-CALNAME:UDC Suisse
BEGIN:VEVENT
CREATED:20220725T072419Z
UID:98898
DTEND:20230902T000000
DTSTART:20230902T000000
DTSTAMP:20260420T205727Z
LOCATION:FR
DESCRIPTION:
SUMMARY:Ev. séance du groupe
ORGANIZER:
URL;VALUE=URI:https://www.udc.ch/actualites/agenda/ev-seance-du-groupe-34/
TRANSP:OPAQUE
END:VEVENT
END:VCALENDAR
