

BEGIN:VCALENDAR
VERSION:2.0
PRODID:-//UDC Suisse //NONSGML Events //EN
CALSCALE:GREGORIAN
X-WR-CALNAME:UDC Suisse
BEGIN:VEVENT
CREATED:20220725T072419Z
UID:98899
DTEND:20230929T000000
DTSTART:20230911T000000
DTSTAMP:20260421T042323Z
LOCATION:Berne
DESCRIPTION:
SUMMARY:Session d’automne
ORGANIZER:
URL;VALUE=URI:https://www.udc.ch/actualites/agenda/session-dautomne-9/
TRANSP:OPAQUE
END:VEVENT
END:VCALENDAR
