

BEGIN:VCALENDAR
VERSION:2.0
PRODID:-//UDC Suisse //NONSGML Events //EN
CALSCALE:GREGORIAN
X-WR-CALNAME:UDC Suisse
BEGIN:VEVENT
CREATED:20220725T072420Z
UID:98902
DTEND:20230925T000000
DTSTART:20230925T000000
DTSTAMP:20260420T193711Z
LOCATION:Berne
DESCRIPTION:
SUMMARY:Séance des leaders
ORGANIZER:
URL;VALUE=URI:https://www.udc.ch/actualites/agenda/seance-des-leaders-6/
TRANSP:OPAQUE
END:VEVENT
END:VCALENDAR
