BEGIN:VCALENDAR
VERSION:2.0
PRODID:-//UDC Suisse //NONSGML Events //EN
CALSCALE:GREGORIAN
X-WR-CALNAME:UDC Suisse
BEGIN:VEVENT
CREATED:20220725T072421Z
UID:98904
DTEND:20231022T000000
DTSTART:20231022T000000
DTSTAMP:20231021T133505Z
LOCATION:
DESCRIPTION:
SUMMARY:Elections fédérales
ORGANIZER:
URL;VALUE=URI:https://www.udc.ch/actualites/agenda/elections-federales-2/
TRANSP:OPAQUE
END:VEVENT
END:VCALENDAR
