BEGIN:VCALENDAR
VERSION:2.0
PRODID:-//UDC Suisse //NONSGML Events //EN
CALSCALE:GREGORIAN
X-WR-CALNAME:UDC Suisse
BEGIN:VEVENT
CREATED:20220725T072422Z
UID:98905
DTEND:20231110T000000
DTSTART:20231110T000000
DTSTAMP:20231021T130657Z
LOCATION:TG
DESCRIPTION:
SUMMARY:Comité directeur / comité du parti
ORGANIZER:
URL;VALUE=URI:https://www.udc.ch/actualites/agenda/comite-directeur-comite-du-parti-7/
TRANSP:OPAQUE
END:VEVENT
END:VCALENDAR
