BEGIN:VCALENDAR
VERSION:2.0
PRODID:-//UDC Suisse //NONSGML Events //EN
CALSCALE:GREGORIAN
X-WR-CALNAME:UDC Suisse
BEGIN:VEVENT
CREATED:20220725T072423Z
UID:98907
DTEND:20231124T000000
DTSTART:20231124T000000
DTSTAMP:20231021T124828Z
LOCATION:BE
DESCRIPTION:
SUMMARY:Séminaire aux nouveaux membres du groupe
ORGANIZER:
URL;VALUE=URI:https://www.udc.ch/actualites/agenda/seminaire-aux-nouveaux-membres-du-groupe/
TRANSP:OPAQUE
END:VEVENT
END:VCALENDAR
