

BEGIN:VCALENDAR
VERSION:2.0
PRODID:-//UDC Suisse //NONSGML Events //EN
CALSCALE:GREGORIAN
X-WR-CALNAME:UDC Suisse
BEGIN:VEVENT
CREATED:20220725T072423Z
UID:98908
DTEND:20231124T000000
DTSTART:20231124T000000
DTSTAMP:20260420T193924Z
LOCATION:BE
DESCRIPTION:
SUMMARY:Présidence du groupe / réunion du groupe
ORGANIZER:
URL;VALUE=URI:https://www.udc.ch/actualites/agenda/presidence-du-groupe-reunion-du-groupe/
TRANSP:OPAQUE
END:VEVENT
END:VCALENDAR
