BEGIN:VCALENDAR
VERSION:2.0
PRODID:-//UDC Suisse //NONSGML Events //EN
CALSCALE:GREGORIAN
X-WR-CALNAME:UDC Suisse
BEGIN:VEVENT
CREATED:20220725T072423Z
UID:98909
DTEND:20231125T000000
DTSTART:20231125T000000
DTSTAMP:20231021T130311Z
LOCATION:BE
DESCRIPTION:
SUMMARY:Séance du groupe
ORGANIZER:
URL;VALUE=URI:https://www.udc.ch/actualites/agenda/seance-du-groupe-43/
TRANSP:OPAQUE
END:VEVENT
END:VCALENDAR
