

BEGIN:VCALENDAR
VERSION:2.0
PRODID:-//UDC Suisse //NONSGML Events //EN
CALSCALE:GREGORIAN
X-WR-CALNAME:UDC Suisse
BEGIN:VEVENT
CREATED:20220725T072424Z
UID:98911
DTEND:20231222T000000
DTSTART:20231204T000000
DTSTAMP:20260421T004157Z
LOCATION:Berne
DESCRIPTION:
SUMMARY:Session d’hiver
ORGANIZER:
URL;VALUE=URI:https://www.udc.ch/actualites/agenda/session-dhiver-9/
TRANSP:OPAQUE
END:VEVENT
END:VCALENDAR
