BEGIN:VCALENDAR
VERSION:2.0
PRODID:-//UDC Suisse //NONSGML Events //EN
CALSCALE:GREGORIAN
X-WR-CALNAME:UDC Suisse
BEGIN:VEVENT
CREATED:20220725T072425Z
UID:98912
DTEND:20231205T000000
DTSTART:20231205T000000
DTSTAMP:20231021T125253Z
LOCATION:Berne
DESCRIPTION:
SUMMARY:Comité du groupe / séance du groupe
ORGANIZER:
URL;VALUE=URI:https://www.udc.ch/actualites/agenda/comite-du-groupe-seance-du-groupe-70/
TRANSP:OPAQUE
END:VEVENT
END:VCALENDAR
