BEGIN:VCALENDAR
VERSION:2.0
PRODID:-//UDC Suisse //NONSGML Events //EN
CALSCALE:GREGORIAN
X-WR-CALNAME:UDC Suisse
BEGIN:VEVENT
CREATED:20220725T072426Z
UID:98913
DTEND:20231212T000000
DTSTART:20231212T000000
DTSTAMP:20231021T125939Z
LOCATION:Berne
DESCRIPTION:
SUMMARY:Séance du groupe
ORGANIZER:
URL;VALUE=URI:https://www.udc.ch/actualites/agenda/seance-du-groupe-44/
TRANSP:OPAQUE
END:VEVENT
END:VCALENDAR
