BEGIN:VCALENDAR
VERSION:2.0
PRODID:-//UDC Suisse //NONSGML Events //EN
CALSCALE:GREGORIAN
X-WR-CALNAME:UDC Suisse
BEGIN:VEVENT
CREATED:20220725T072427Z
UID:98915
DTEND:20231218T000000
DTSTART:20231218T000000
DTSTAMP:20231021T124541Z
LOCATION:Berne
DESCRIPTION:
SUMMARY:Séance des leaders
ORGANIZER:
URL;VALUE=URI:https://www.udc.ch/actualites/agenda/seance-des-leaders-7/
TRANSP:OPAQUE
END:VEVENT
END:VCALENDAR
