

BEGIN:VCALENDAR
VERSION:2.0
PRODID:-//UDC Suisse //NONSGML Events //EN
CALSCALE:GREGORIAN
X-WR-CALNAME:UDC Suisse
BEGIN:VEVENT
CREATED:20220725T072427Z
UID:98916
DTEND:20231219T000000
DTSTART:20231219T000000
DTSTAMP:20260420T214415Z
LOCATION:Berne
DESCRIPTION:
SUMMARY:Ev. séance du groupe
ORGANIZER:
URL;VALUE=URI:https://www.udc.ch/actualites/agenda/ev-seance-du-groupe-36/
TRANSP:OPAQUE
END:VEVENT
END:VCALENDAR
