

BEGIN:VCALENDAR
VERSION:2.0
PRODID:-//UDC Suisse //NONSGML Events //EN
CALSCALE:GREGORIAN
X-WR-CALNAME:UDC Suisse
BEGIN:VEVENT
CREATED:20220726T064139Z
UID:98921
DTEND:20220801T190000
DTSTART:20220801T183000
DTSTAMP:20260420T212535Z
LOCATION:1417 Essertines-sur-Yverdon / Municipalité d´Essertines-sur-Yverdon
DESCRIPTION:
SUMMARY:Fête du 1er août avec Conseiller national Michaël Buffat
ORGANIZER:
URL;VALUE=URI:https://www.udc.ch/actualites/agenda/fete-du-1er-aout-avec-conseiller-national-michael-buffat/
TRANSP:OPAQUE
END:VEVENT
END:VCALENDAR
