

BEGIN:VCALENDAR
VERSION:2.0
PRODID:-//UDC Suisse //NONSGML Events //EN
CALSCALE:GREGORIAN
X-WR-CALNAME:UDC Suisse
BEGIN:VEVENT
CREATED:20220726T064139Z
UID:98922
DTEND:20220801T120000
DTSTART:20220801T113000
DTSTAMP:20260420T153314Z
LOCATION:1400 Yverdon-les-Bains / Place Pestalozzi
DESCRIPTION:
SUMMARY:Fête du 1er août avec Conseiller aux Etats Marco Chiesa
ORGANIZER:
URL;VALUE=URI:https://www.udc.ch/actualites/agenda/fete-du-1er-aout-avec-conseiller-aux-etats-marco-chiesa/
TRANSP:OPAQUE
END:VEVENT
END:VCALENDAR
