

BEGIN:VCALENDAR
VERSION:2.0
PRODID:-//UDC Suisse //NONSGML Events //EN
CALSCALE:GREGORIAN
X-WR-CALNAME:UDC Suisse
BEGIN:VEVENT
CREATED:20220726T064139Z
UID:98923
DTEND:20220801T150000
DTSTART:20220801T140000
DTSTAMP:20260420T194610Z
LOCATION:1405 Pomy / ferme de Patrick et Cosette Grin\, route de Cuarny 9
DESCRIPTION:inscription jusqu‘au 31.07.2022 auprès de l‘UDCVaud, www.udc-vaud
SUMMARY:Fête du 1er août avec Conseiller aux Etats Marco Chiesa
ORGANIZER:
URL;VALUE=URI:https://www.udc.ch/actualites/agenda/fete-du-1er-aout-avec-conseiller-aux-etats-marco-chiesa-2/
TRANSP:OPAQUE
END:VEVENT
END:VCALENDAR
