

BEGIN:VCALENDAR
VERSION:2.0
PRODID:-//UDC Suisse //NONSGML Events //EN
CALSCALE:GREGORIAN
X-WR-CALNAME:UDC Suisse
BEGIN:VEVENT
CREATED:20220726T064139Z
UID:98924
DTEND:20220801T120000
DTSTART:20220801T111500
DTSTAMP:20260420T214208Z
LOCATION:6022 Grosswangen / Schlössli 2
DESCRIPTION:
SUMMARY:Fête du 1er août avec Conseiller national Marcel Dettling
ORGANIZER:
URL;VALUE=URI:https://www.udc.ch/actualites/agenda/fete-du-1er-aout-avec-conseiller-national-marcel-dettling/
TRANSP:OPAQUE
END:VEVENT
END:VCALENDAR
