

BEGIN:VCALENDAR
VERSION:2.0
PRODID:-//UDC Suisse //NONSGML Events //EN
CALSCALE:GREGORIAN
X-WR-CALNAME:UDC Suisse
BEGIN:VEVENT
CREATED:20220726T064139Z
UID:98925
DTEND:20220801T180000
DTSTART:20220801T170000
DTSTAMP:20260420T194806Z
LOCATION:8898 Flumserberg / Alp Tannenboden
DESCRIPTION:
SUMMARY:Fête du 1er août avec Conseiller national Marcel Dettling
ORGANIZER:
URL;VALUE=URI:https://www.udc.ch/actualites/agenda/fete-du-1er-aout-avec-conseiller-national-marcel-dettling-2/
TRANSP:OPAQUE
END:VEVENT
END:VCALENDAR
