

BEGIN:VCALENDAR
VERSION:2.0
PRODID:-//UDC Suisse //NONSGML Events //EN
CALSCALE:GREGORIAN
X-WR-CALNAME:UDC Suisse
BEGIN:VEVENT
CREATED:20220726T064139Z
UID:98926
DTEND:20220731T190000
DTSTART:20220731T180000
DTSTAMP:20260420T214343Z
LOCATION:9204 Andwil / Schulhaus Areal Ebnet\, Arneggerstrasse 14
DESCRIPTION:
SUMMARY:Fête du 1er août avec Conseiller national Mike Egger
ORGANIZER:
URL;VALUE=URI:https://www.udc.ch/actualites/agenda/fete-du-1er-aout-avec-conseiller-national-mike-egger/
TRANSP:OPAQUE
END:VEVENT
END:VCALENDAR
