

BEGIN:VCALENDAR
VERSION:2.0
PRODID:-//UDC Suisse //NONSGML Events //EN
CALSCALE:GREGORIAN
X-WR-CALNAME:UDC Suisse
BEGIN:VEVENT
CREATED:20220726T064139Z
UID:98928
DTEND:20220801T200000
DTSTART:20220801T190000
DTSTAMP:20260420T194455Z
LOCATION:7317 Valens / Festplatz\, Dorfplatz Valens
DESCRIPTION:
SUMMARY:Fête du 1er août avec Conseiller national Mike Egger
ORGANIZER:
URL;VALUE=URI:https://www.udc.ch/actualites/agenda/fete-du-1er-aout-avec-conseiller-national-mike-egger-3/
TRANSP:OPAQUE
END:VEVENT
END:VCALENDAR
