

BEGIN:VCALENDAR
VERSION:2.0
PRODID:-//UDC Suisse //NONSGML Events //EN
CALSCALE:GREGORIAN
X-WR-CALNAME:UDC Suisse
BEGIN:VEVENT
CREATED:20220726T064140Z
UID:98929
DTEND:20220801T130000
DTSTART:20220801T121500
DTSTAMP:20260420T191422Z
LOCATION:8104 Weiningen / Bauernhof Familie Haug\, im Wiesentäli
DESCRIPTION:
SUMMARY:Fête du 1er août avec Conseiller national Benjamin Fischer
ORGANIZER:
URL;VALUE=URI:https://www.udc.ch/actualites/agenda/fete-du-1er-aout-avec-conseiller-national-benjamin-fischer/
TRANSP:OPAQUE
END:VEVENT
END:VCALENDAR
