

BEGIN:VCALENDAR
VERSION:2.0
PRODID:-//UDC Suisse //NONSGML Events //EN
CALSCALE:GREGORIAN
X-WR-CALNAME:UDC Suisse
BEGIN:VEVENT
CREATED:20220726T064140Z
UID:98931
DTEND:20220801T100000
DTSTART:20220801T093000
DTSTAMP:20260421T131606Z
LOCATION:9443 Widnau / im Freibad
DESCRIPTION:
SUMMARY:Fête du 1er août avec Conseillère nationale Esther Friedli
ORGANIZER:
URL;VALUE=URI:https://www.udc.ch/actualites/agenda/fete-du-1er-aout-avec-conseillere-nationale-esther-friedli-2/
TRANSP:OPAQUE
END:VEVENT
END:VCALENDAR
